BEGIN:VCALENDAR
VERSION:2.0
PRODID:icalendar-ruby
CALSCALE:GREGORIAN
METHOD:PUBLISH
BEGIN:VEVENT
DTSTAMP:20260421T051619Z
UID:142-135920@sanjose.church
DTSTART:20260923T020000Z
DTEND:20260923T030000Z
CLASS:PUBLIC
CREATED:20260420T165415
DESCRIPTION:Next Steps: Your Path to Belonging at Southridge\nReady to make
  it official? Next Steps is how you become part of the Southridge Church f
 amily. Start anytime online at your own pace\, or connect live via Zoom on
  Tuesday nights from 7–8 PM\, beginning August 12th. Whether you're new 
 or looking to take the next step in your faith journey\, we’re excited t
 o welcome you in.\n\n\n&gt\;TAKE NEXT STEPS ONLINE\n&gt\;JOIN VIA ZOOM
LAST-MODIFIED:20260420T165415
LOCATION:Via Zoom
SUMMARY:Next Steps
URL;VALUE=URI:https://sanjose.church/events/next-steps/2026-09-22
ATTACH;FILENAME=YT-Thumbnail.png;FMTTYPE=image/png:https://dq5pwpg1q8ru0.cl
 oudfront.net/2025/08/11/15/37/39/fdc8dfff-4a9e-44f1-86f5-a099c71ac5b0/YT-T
 humbnail.png
END:VEVENT
END:VCALENDAR
